BEGIN:VCALENDAR
VERSION:2.0
PRODID:-//Mayo Foroige - ECPv4.6.3//NONSGML v1.0//EN
CALSCALE:GREGORIAN
METHOD:PUBLISH
X-WR-CALNAME:Mayo Foroige
X-ORIGINAL-URL:http://mayoforoige.ie
X-WR-CALDESC:Events for Mayo Foroige
BEGIN:VEVENT
DTSTART;TZID=UTC+0:20171215T210000
DTEND;TZID=UTC+0:20171215T233000
DTSTAMP:20171104T234746
CREATED:20171027T152204Z
LAST-MODIFIED:20171027T201412Z
UID:396-1513371600-1513380600@mayoforoige.ie
SUMMARY:Barnacarroll Disco
DESCRIPTION:
URL:http://mayoforoige.ie/event/barnacarroll-disco/
LOCATION:Barnacarroll\, Claremorrie\, F12 YT57\, Ireland
CATEGORIES:Disco
END:VEVENT
END:VCALENDAR