BEGIN:VCALENDAR
VERSION:2.0
PRODID:-//Mayo Foroige - ECPv4.6.3//NONSGML v1.0//EN
CALSCALE:GREGORIAN
METHOD:PUBLISH
X-WR-CALNAME:Mayo Foroige
X-ORIGINAL-URL:http://mayoforoige.ie
X-WR-CALDESC:Events for Mayo Foroige
BEGIN:VEVENT
DTSTART;TZID=UTC+0:20180105T210000
DTEND;TZID=UTC+0:20180105T233000
DTSTAMP:20171104T234824
CREATED:20171027T154341Z
LAST-MODIFIED:20171027T202138Z
UID:407-1515186000-1515195000@mayoforoige.ie
SUMMARY:Kiltimagh Disco
DESCRIPTION:
URL:http://mayoforoige.ie/event/kiltimagh-disco/
LOCATION:Kiltimagh\, F12 NY17\, Ireland
END:VEVENT
END:VCALENDAR