BEGIN:VCALENDAR
VERSION:2.0
PRODID:-//Mayo Foroige - ECPv4.6.3//NONSGML v1.0//EN
CALSCALE:GREGORIAN
METHOD:PUBLISH
X-WR-CALNAME:Mayo Foroige
X-ORIGINAL-URL:http://mayoforoige.ie
X-WR-CALDESC:Events for Mayo Foroige
BEGIN:VEVENT
DTSTART;TZID=UTC+0:20171019T080000
DTEND;TZID=UTC+0:20171019T210000
DTSTAMP:20171105T002243
CREATED:20171002T185417Z
LAST-MODIFIED:20171002T185417Z
UID:245-1508400000-1508446800@mayoforoige.ie
SUMMARY:Senior Members Get-Together
DESCRIPTION:
URL:http://mayoforoige.ie/event/senior-members-get-together/
LOCATION:Castlebar\, F23 DT35\, Ireland
CATEGORIES:Meeting
ATTACH;FMTTYPE=image/jpeg:http://mayoforoige.ie/wp-content/uploads/2017/06/IMG_7689.jpg
END:VEVENT
END:VCALENDAR