BEGIN:VCALENDAR
VERSION:2.0
PRODID:-//Mayo Foroige - ECPv4.6.3//NONSGML v1.0//EN
CALSCALE:GREGORIAN
METHOD:PUBLISH
X-WR-CALNAME:Mayo Foroige
X-ORIGINAL-URL:http://mayoforoige.ie
X-WR-CALDESC:Events for Mayo Foroige
BEGIN:VEVENT
DTSTART;TZID=UTC+0:20171124T190000
DTEND;TZID=UTC+0:20171124T233000
DTSTAMP:20171104T234259
CREATED:20171027T144106Z
LAST-MODIFIED:20171027T144200Z
UID:385-1511550000-1511566200@mayoforoige.ie
SUMMARY:Older Member's Banquet (times approx)
DESCRIPTION:
URL:http://mayoforoige.ie/event/older-members-banquet-times-approx/
LOCATION:Belmullet\, F26 D8N7\, Ireland
CATEGORIES:Banquet
END:VEVENT
END:VCALENDAR