BEGIN:VCALENDAR
VERSION:2.0
PRODID:-//Mayo Foroige - ECPv4.6.3//NONSGML v1.0//EN
CALSCALE:GREGORIAN
METHOD:PUBLISH
X-WR-CALNAME:Mayo Foroige
X-ORIGINAL-URL:http://mayoforoige.ie
X-WR-CALDESC:Events for Mayo Foroige
BEGIN:VEVENT
DTSTART;TZID=UTC+0:20171106T200000
DTEND;TZID=UTC+0:20171106T220000
DTSTAMP:20171104T235342
CREATED:20171027T141458Z
LAST-MODIFIED:20171027T201543Z
UID:369-1509998400-1510005600@mayoforoige.ie
SUMMARY:District Council Meeting 06.11.2017
DESCRIPTION:Welcome to Mayo District Council .Mayo District Council meets on the first Monday of every month. The purpose of the District Council is an opportunity for leaders to meet once a month to exchange ideas\, to organise Interclub events\, make recommendations to the National Council and to assist in the formation of new club. The following are a number of past and current events that have and are going to happen in Mayo Foróige. \n\nDisco’s\nQuiz\nWebsite Development\nForóige Got Talent\nLeaders Reunion\nLeaders Conference\nBand on the Strand\nCareers Information evening\nOlder members Day out\nForóige Forum\nOfficer training\nRegional Conference\nLeaders Training\nWorkshops\nEnd of Year event\nGames Training\n\n
URL:http://mayoforoige.ie/event/regional-council-meeting-06-11-2017/
LOCATION:Castlebar\, F23 DT35\, Ireland
CATEGORIES:District Council,Meeting
END:VEVENT
END:VCALENDAR