BEGIN:VCALENDAR
VERSION:2.0
PRODID:-//Mayo Foroige - ECPv4.6.3//NONSGML v1.0//EN
CALSCALE:GREGORIAN
METHOD:PUBLISH
X-WR-CALNAME:Mayo Foroige
X-ORIGINAL-URL:http://mayoforoige.ie
X-WR-CALDESC:Events for Mayo Foroige
BEGIN:VEVENT
DTSTART;TZID=UTC+0:20171113T193000
DTEND;TZID=UTC+0:20171113T223000
DTSTAMP:20171104T235209
CREATED:20171027T143116Z
LAST-MODIFIED:20171027T143552Z
UID:377-1510601400-1510612200@mayoforoige.ie
SUMMARY:Leader Training (Castlebar) Part I
DESCRIPTION:
URL:http://mayoforoige.ie/event/leader-training-part-i-2/
LOCATION:Castlebar\, F23 PP78\, Ireland
CATEGORIES:Leader,Training
END:VEVENT
END:VCALENDAR